BEGIN:VCALENDAR
VERSION:2.0
PRODID:-//GayMenOnHoliday.com - ECPv6.15.12.2//NONSGML v1.0//EN
CALSCALE:GREGORIAN
METHOD:PUBLISH
X-WR-CALNAME:GayMenOnHoliday.com
X-ORIGINAL-URL:https://gaymenonholiday.com
X-WR-CALDESC:Events for GayMenOnHoliday.com
REFRESH-INTERVAL;VALUE=DURATION:PT1H
X-Robots-Tag:noindex
X-PUBLISHED-TTL:PT1H
BEGIN:VTIMEZONE
TZID:Australia/Melbourne
BEGIN:STANDARD
TZOFFSETFROM:+1100
TZOFFSETTO:+1000
TZNAME:AEST
DTSTART:20150404T160000
END:STANDARD
BEGIN:DAYLIGHT
TZOFFSETFROM:+1000
TZOFFSETTO:+1100
TZNAME:AEDT
DTSTART:20151003T160000
END:DAYLIGHT
BEGIN:STANDARD
TZOFFSETFROM:+1100
TZOFFSETTO:+1000
TZNAME:AEST
DTSTART:20160402T160000
END:STANDARD
BEGIN:DAYLIGHT
TZOFFSETFROM:+1000
TZOFFSETTO:+1100
TZNAME:AEDT
DTSTART:20161001T160000
END:DAYLIGHT
BEGIN:STANDARD
TZOFFSETFROM:+1100
TZOFFSETTO:+1000
TZNAME:AEST
DTSTART:20170401T160000
END:STANDARD
BEGIN:DAYLIGHT
TZOFFSETFROM:+1000
TZOFFSETTO:+1100
TZNAME:AEDT
DTSTART:20170930T160000
END:DAYLIGHT
END:VTIMEZONE
BEGIN:VEVENT
DTSTART;TZID=Australia/Melbourne:20160117T080000
DTEND;TZID=Australia/Melbourne:20160207T170000
DTSTAMP:20260420T041646
CREATED:20151019T215413Z
LAST-MODIFIED:20151019T215413Z
UID:2477-1453017600-1454864400@gaymenonholiday.com
SUMMARY:Midsumma Festival\, Melbourne
DESCRIPTION:
URL:https://gaymenonholiday.com/event/midsumma-festival-melbourne/
END:VEVENT
END:VCALENDAR