BEGIN:VCALENDAR
VERSION:2.0
PRODID:-//GayMenOnHoliday.com - ECPv6.15.12.2//NONSGML v1.0//EN
CALSCALE:GREGORIAN
METHOD:PUBLISH
X-WR-CALNAME:GayMenOnHoliday.com
X-ORIGINAL-URL:https://gaymenonholiday.com
X-WR-CALDESC:Events for GayMenOnHoliday.com
REFRESH-INTERVAL;VALUE=DURATION:PT1H
X-Robots-Tag:noindex
X-PUBLISHED-TTL:PT1H
BEGIN:VTIMEZONE
TZID:Australia/Sydney
BEGIN:STANDARD
TZOFFSETFROM:+1100
TZOFFSETTO:+1000
TZNAME:AEST
DTSTART:20150404T160000
END:STANDARD
BEGIN:DAYLIGHT
TZOFFSETFROM:+1000
TZOFFSETTO:+1100
TZNAME:AEDT
DTSTART:20151003T160000
END:DAYLIGHT
BEGIN:STANDARD
TZOFFSETFROM:+1100
TZOFFSETTO:+1000
TZNAME:AEST
DTSTART:20160402T160000
END:STANDARD
BEGIN:DAYLIGHT
TZOFFSETFROM:+1000
TZOFFSETTO:+1100
TZNAME:AEDT
DTSTART:20161001T160000
END:DAYLIGHT
BEGIN:STANDARD
TZOFFSETFROM:+1100
TZOFFSETTO:+1000
TZNAME:AEST
DTSTART:20170401T160000
END:STANDARD
BEGIN:DAYLIGHT
TZOFFSETFROM:+1000
TZOFFSETTO:+1100
TZNAME:AEDT
DTSTART:20170930T160000
END:DAYLIGHT
END:VTIMEZONE
BEGIN:VEVENT
DTSTART;TZID=Australia/Sydney:20160526T183000
DTEND;TZID=Australia/Sydney:20160526T213000
DTSTAMP:20260422T064541
CREATED:20160429T071000Z
LAST-MODIFIED:20160429T074142Z
UID:3124-1464287400-1464298200@gaymenonholiday.com
SUMMARY:Australian Marriage Equality Fundraising Event
DESCRIPTION:  \n  \n  \n  \n  \n  \n  \n  \n  \nAhoy marriage equality supporter! \nWe’re inviting you to join us aboard the fabulous Starship on Sydney Harbour for a spectacular evening that supports marriage equality in Australia. \nOur volunteers have been working hard in Canberra and around Australia to build support for marriage equality\, including increasing the number of MP’s in Federal Parliament who believe in voting yes. \nOver the next few months we have big plans to activate in even more communities across Australia — but we need your help to grow the campaign and make marriage equality a reality.\nJoin us for this fun night to help us raise the funds we need to win this campaign. \nBuy your tickets now: http://www.australianmarriageequality.org/shop/event/australian-marriage-equality-fundraising-event/ \nWhen:\nThursday 26 May\n6.30pm to 9.30pm (welcome drinks Pier 4\, King Street Wharf\, sailing at 7.30pm) \nHow much:\n$99 each – including welcome drink\, canapes and entertainment\n$158 for two – grab the early bird couple special before midnight\, Sunday 10th April and receive 20% off two tickets. The early bird special has very limited stock so please be quick to save disappointment. \n(And now the wonderful David Campbell has been announced as one of the hosts for the evening.) \nWe look forward to seeing you there! ♥
URL:https://gaymenonholiday.com/event/australian-marriage-equality-fundraising-event/
LOCATION:Pier 4\, King Street Wharf\, sailing at 7.30pm\, Pier 4\, King Street Wharf\, sailing at 7.30pm\, Sydney\, NSW\, Australia
GEO:-33.8674869;151.2069902
X-APPLE-STRUCTURED-LOCATION;VALUE=URI;X-ADDRESS=Pier 4 King Street Wharf sailing at 7.30pm Pier 4 King Street Wharf sailing at 7.30pm Sydney NSW Australia;X-APPLE-RADIUS=500;X-TITLE=Pier 4\, King Street Wharf\, sailing at 7.30pm:geo:151.2069902,-33.8674869
END:VEVENT
END:VCALENDAR